BEGIN:VCALENDAR
VERSION:2.0
PRODID:-//Gladys Porter Zoo - ECPv6.15.20//NONSGML v1.0//EN
CALSCALE:GREGORIAN
METHOD:PUBLISH
X-WR-CALNAME:Gladys Porter Zoo
X-ORIGINAL-URL:https://www.gpz.org
X-WR-CALDESC:Events for Gladys Porter Zoo
REFRESH-INTERVAL;VALUE=DURATION:PT1H
X-Robots-Tag:noindex
X-PUBLISHED-TTL:PT1H
BEGIN:VTIMEZONE
TZID:UTC
BEGIN:STANDARD
TZOFFSETFROM:+0000
TZOFFSETTO:+0000
TZNAME:UTC
DTSTART:20250101T000000
END:STANDARD
END:VTIMEZONE
BEGIN:VEVENT
DTSTART;TZID=UTC:20260510T080000
DTEND;TZID=UTC:20260510T170000
DTSTAMP:20260421T032636
CREATED:20200320T105445Z
LAST-MODIFIED:20260416T155056Z
UID:2172-1778400000-1778432400@www.gpz.org
SUMMARY:Animal Play Day “Mother’s Day… M.O.M.”
DESCRIPTION:Join us for a Mother’s Day themed Animal Play Day at the Orangutan Palapa. Participate in fun educational activities and coloring from 11:00 a.m. – 3:30 p.m. at the Orangutan Palapa.  Our mother and daughter orangutan pair will be also receiving enrichment from their keepers at the following times: \n11:00 a.m.\, 1:30 p.m. and 3:30 p.m. \nOrangutans are facing a crisis in the wild due to the loss of their rain forest home to make space for palm oil plantations. The cutting down and burning of the rain forest for these plantations leaves many orangutans homeless and/or orphaned. This event is free with the purchase of general admission or Zoo membership. We will be accepting donations for the Missing Orangutan Mothers campaign.
URL:/event/animal-play-day-mothers-day-m-o-m/
END:VEVENT
END:VCALENDAR